BEGIN:VCALENDAR
VERSION:2.0
PRODID:-//D73 Hawthorn PTO - ECPv6.15.3//NONSGML v1.0//EN
CALSCALE:GREGORIAN
METHOD:PUBLISH
X-ORIGINAL-URL:http://hawthornpto.org
X-WR-CALDESC:Events for D73 Hawthorn PTO
REFRESH-INTERVAL;VALUE=DURATION:PT1H
X-Robots-Tag:noindex
X-PUBLISHED-TTL:PT1H
BEGIN:VTIMEZONE
TZID:America/Chicago
BEGIN:DAYLIGHT
TZOFFSETFROM:-0600
TZOFFSETTO:-0500
TZNAME:CDT
DTSTART:20190310T080000
END:DAYLIGHT
BEGIN:STANDARD
TZOFFSETFROM:-0500
TZOFFSETTO:-0600
TZNAME:CST
DTSTART:20191103T070000
END:STANDARD
BEGIN:DAYLIGHT
TZOFFSETFROM:-0600
TZOFFSETTO:-0500
TZNAME:CDT
DTSTART:20200308T080000
END:DAYLIGHT
BEGIN:STANDARD
TZOFFSETFROM:-0500
TZOFFSETTO:-0600
TZNAME:CST
DTSTART:20201101T070000
END:STANDARD
END:VTIMEZONE
BEGIN:VEVENT
DTSTART;TZID=America/Chicago:20200331T190000
DTEND;TZID=America/Chicago:20200331T200000
DTSTAMP:20260424T221308
CREATED:20200306T172053Z
LAST-MODIFIED:20200312T190647Z
UID:2844-1585681200-1585684800@hawthornpto.org
SUMMARY:Be Smart - cancelled
DESCRIPTION:This event has been cancelled
URL:http://hawthornpto.org/event/be-smart/
END:VEVENT
BEGIN:VEVENT
DTSTART;VALUE=DATE:20200323
DTEND;VALUE=DATE:20200324
DTSTAMP:20260424T221308
CREATED:20190814T191715Z
LAST-MODIFIED:20190814T191715Z
UID:2407-1584921600-1585007999@hawthornpto.org
SUMMARY:Annual Cookie Dough Sale Ends
DESCRIPTION:Our annual Cookie Dough sale starts March 9th and runs through March 23rd. Cookie Dough pick up will take place on April 20th from 3-7pm at Middle School South. \nJust imagine all of the technology equipment\, classroom supplies\, and playground equipment that could be purchased if each family booth 1 box of cookie dough!!
URL:http://hawthornpto.org/event/annual-cookie-dough-sale-ends/
END:VEVENT
BEGIN:VEVENT
DTSTART;TZID=America/Chicago:20200316T170000
DTEND;TZID=America/Chicago:20200316T210000
DTSTAMP:20260424T221308
CREATED:20190912T095020Z
LAST-MODIFIED:20200121T182153Z
UID:2498-1584378000-1584392400@hawthornpto.org
SUMMARY:Community Engagement/ Restaurant Night - Next Door
DESCRIPTION:Take a night off from cooking and have dinner at Next Door in Mellody Farms between 5pm and 9pm and 25% of your purchase will be donated back to the Hawthorn 73 PTO. \n  \nNext Door \n899 N. Milwaukee Ave. \nVernon Hills\, IL 60061
URL:http://hawthornpto.org/event/community-engagement-night-next-door/
END:VEVENT
BEGIN:VEVENT
DTSTART;TZID=America/Chicago:20200315T110000
DTEND;TZID=America/Chicago:20200315T150000
DTSTAMP:20260424T221308
CREATED:20190814T192313Z
LAST-MODIFIED:20200312T190735Z
UID:2416-1584270000-1584284400@hawthornpto.org
SUMMARY:Variety Show - Cancelled
DESCRIPTION:
URL:http://hawthornpto.org/event/variety-show/
END:VEVENT
BEGIN:VEVENT
DTSTART;TZID=America/Chicago:20200314T110000
DTEND;TZID=America/Chicago:20200314T150000
DTSTAMP:20260424T221308
CREATED:20190814T192055Z
LAST-MODIFIED:20200312T190713Z
UID:2413-1584183600-1584198000@hawthornpto.org
SUMMARY:Variety Show - Mandatory Rehearsal Cancelled
DESCRIPTION:
URL:http://hawthornpto.org/event/variety-show-mandatory-rehearsal/
END:VEVENT
BEGIN:VEVENT
DTSTART;VALUE=DATE:20200309
DTEND;VALUE=DATE:20200310
DTSTAMP:20260424T221308
CREATED:20190814T191631Z
LAST-MODIFIED:20190814T191631Z
UID:2404-1583712000-1583798399@hawthornpto.org
SUMMARY:Annual Cookie Dough Sale Starts
DESCRIPTION:Our annual Cookie Dough sale starts March 9th and runs through March 23rd. Cookie Dough pick up will take place on April 20th from 3-7pm at Middle School South. \nJust imagine all of the technology equipment\, classroom supplies\, and playground equipment that could be purchased if each family booth 1 box of cookie dough!!
URL:http://hawthornpto.org/event/annual-cookie-dough-sale-starts/
END:VEVENT
BEGIN:VEVENT
DTSTART;TZID=America/Chicago:20200307T130000
DTEND;TZID=America/Chicago:20200307T150000
DTSTAMP:20260424T221308
CREATED:20190814T191332Z
LAST-MODIFIED:20190814T191406Z
UID:2401-1583586000-1583593200@hawthornpto.org
SUMMARY:Mother Daughter Tea Program
DESCRIPTION:All 4th grade girls and their mothers/mother figures are invited to attend the Mother-Daughter Tea on Saturday\, March 7th from 1:00-3:00 pm at the Vernon Hills Park District Sullivan Center. Enjoy afternoon tea and refreshments with your daughter as you both learn new ways to talk to each other and share information about growing up and the changes that come with puberty.  Invitations will be sent home to all 4th grade girls at the end of January.
URL:http://hawthornpto.org/event/mother-daughter-tea-program/
END:VEVENT
BEGIN:VEVENT
DTSTART;TZID=America/Chicago:20200304T190000
DTEND;TZID=America/Chicago:20200304T200000
DTSTAMP:20260424T221308
CREATED:20190814T183246Z
LAST-MODIFIED:20190814T183246Z
UID:2365-1583348400-1583352000@hawthornpto.org
SUMMARY:PTO Monthly Meeting - 7pm  open to the community
DESCRIPTION:PTO Monthly Meeting \n7pm – 8pm \nHawthorn 73 District Office \n841 W. End Court \nVernon Hills
URL:http://hawthornpto.org/event/pto-monthly-meeting-7pm-open-to-the-community-5/
END:VEVENT
BEGIN:VEVENT
DTSTART;VALUE=DATE:20200224
DTEND;VALUE=DATE:20200229
DTSTAMP:20260424T221308
CREATED:20190814T191032Z
LAST-MODIFIED:20190814T191032Z
UID:2398-1582502400-1582934399@hawthornpto.org
SUMMARY:Winter Book Fair - All School Buildings
DESCRIPTION:The annual winter book fair is offered at all school buildings. Check the Book Fair web page for specific times for your school.  Shop for great books for your student and support the PTO at the same time
URL:http://hawthornpto.org/event/winter-book-fair-all-school-buildings-2/
END:VEVENT
BEGIN:VEVENT
DTSTART;VALUE=DATE:20200221
DTEND;VALUE=DATE:20200222
DTSTAMP:20260424T221308
CREATED:20190814T190938Z
LAST-MODIFIED:20190814T190938Z
UID:2395-1582243200-1582329599@hawthornpto.org
SUMMARY:Winter Book Fair - All School Buildings
DESCRIPTION:The annual winter book fair is offered at all school buildings. Check the Book Fair web page for specific times for your school.  Shop for great books for your student and support the PTO at the same time
URL:http://hawthornpto.org/event/winter-book-fair-all-school-buildings/
END:VEVENT
BEGIN:VEVENT
DTSTART;TZID=America/Chicago:20200219T160000
DTEND;TZID=America/Chicago:20200219T200000
DTSTAMP:20260424T221308
CREATED:20191112T192449Z
LAST-MODIFIED:20200121T182959Z
UID:2730-1582128000-1582142400@hawthornpto.org
SUMMARY:Community Engagement/Restaurant Night - Chipotle
DESCRIPTION:Take a night off from cooking and have dinner at Chipotle between 4pm and 8pm and 33% of your purchase will be donated back to the Hawthorn 73 PTO. Make sure to bring the flyer or show the flyer on your phone or mention the fundraiser to cashier before completing your purchase. \nChipotle Flyer_English   \nChipotle Flyer_Spanish \n  \nChipotle \n375 N. Milwaukee Ave. #100 \nVernon Hills
URL:http://hawthornpto.org/event/2730/
END:VEVENT
BEGIN:VEVENT
DTSTART;TZID=America/Chicago:20200208T080000
DTEND;TZID=America/Chicago:20200208T190000
DTSTAMP:20260424T221308
CREATED:20200121T170139Z
LAST-MODIFIED:20200121T170821Z
UID:2799-1581148800-1581188400@hawthornpto.org
SUMMARY:Community Engagement Event - Corner Bakery
DESCRIPTION:Enjoy breakfast\, lunch\, dinner or all three at the Vernon Hills Corner Bakery and Hawthorn PTO will get 15% of the proceeeds.  \nCorner Bakery is located at 445 E Townline Rd Ste A\, across from the mall.
URL:http://hawthornpto.org/event/community-engagement-event-corner-bakery/
END:VEVENT
BEGIN:VEVENT
DTSTART;TZID=America/Chicago:20200205T190000
DTEND;TZID=America/Chicago:20200205T200000
DTSTAMP:20260424T221308
CREATED:20190814T183050Z
LAST-MODIFIED:20190814T183147Z
UID:2361-1580929200-1580932800@hawthornpto.org
SUMMARY:PTO Monthly Meeting 7pm  open to the community
DESCRIPTION:PTO Monthly Meeting \n7pm – 8pm \nHawthorn 73 District Office \n841 W. End Court \nVernon Hills
URL:http://hawthornpto.org/event/pto-monthly-meeting-7pm-open-to-the-community-4/
END:VEVENT
BEGIN:VEVENT
DTSTART;TZID=America/Chicago:20200131T183000
DTEND;TZID=America/Chicago:20200131T200000
DTSTAMP:20260424T221308
CREATED:20190814T190647Z
LAST-MODIFIED:20190814T190647Z
UID:2392-1580495400-1580500800@hawthornpto.org
SUMMARY:Boys Night Out Program
DESCRIPTION:This event is open to all 5th grade boys and their father or father figure. Join us Middle School South at 6:30pm for a fun evening of organized games\, pizza\, and a guest speaker!
URL:http://hawthornpto.org/event/boys-night-out-program/
END:VEVENT
BEGIN:VEVENT
DTSTART;TZID=America/Chicago:20200121T173000
DTEND;TZID=America/Chicago:20200121T193000
DTSTAMP:20260424T221308
CREATED:20191213T115604Z
LAST-MODIFIED:20200121T165552Z
UID:2768-1579627800-1579635000@hawthornpto.org
SUMMARY:Chick Fil A Community Engagement/Restaurant Night
DESCRIPTION:Take a night off from cooking and enjoy one of your favorites at Chick Fil A in Vernon Hills. Between 5:30pm and 7:30pm\, 20% of your purchase will be donated to the Hawthorn PTO!!
URL:http://hawthornpto.org/event/chik-fil-a-community-engagement-restaurant-night/
END:VEVENT
BEGIN:VEVENT
DTSTART;TZID=America/Chicago:20200108T190000
DTEND;TZID=America/Chicago:20200108T200000
DTSTAMP:20260424T221308
CREATED:20190814T182959Z
LAST-MODIFIED:20190814T182959Z
UID:2358-1578510000-1578513600@hawthornpto.org
SUMMARY:PTO Monthly Meeting - 7pm  open to the community
DESCRIPTION:PTO Monthly Meeting \n7pm – 8pm \nHawthorn 73 District Office \n841 W. End Court \nVernon Hills
URL:http://hawthornpto.org/event/pto-monthly-meeting-7pm-open-to-the-community-3/
END:VEVENT
BEGIN:VEVENT
DTSTART;TZID=America/Chicago:20191208T110000
DTEND;TZID=America/Chicago:20191208T180000
DTSTAMP:20260424T221308
CREATED:20191204T213720Z
LAST-MODIFIED:20191208T144654Z
UID:2744-1575802800-1575828000@hawthornpto.org
SUMMARY:PTO Community Engagement - Snickelfritz Toys
DESCRIPTION:Community Engagement Event \nSnickelfritz Toys\n10AM – 7PM\nVernon Hills location (700 N Milwaukee Ave Suite 124)\nHawthorn PTO will get 10% \nView flyer for info.
URL:http://hawthornpto.org/event/pto-community-engagement-snickelfritz-toys/
END:VEVENT
BEGIN:VEVENT
DTSTART;TZID=America/Chicago:20191205T160000
DTEND;TZID=America/Chicago:20191205T200000
DTSTAMP:20260424T221308
CREATED:20190901T145555Z
LAST-MODIFIED:20190901T145555Z
UID:2468-1575561600-1575576000@hawthornpto.org
SUMMARY:PTO Community Engagement Night - Panera
DESCRIPTION:Take a night off from cooking and have dinner at Panera between 4pm and 8pm and 20% of your purchase will be donated back to the Hawthorn 73 PTO. Make sure to bring flyer or show flyer on your phone or mention fundraiser to cashier before completing your purchase. NOTE:  Online orders are NOT part of the fundraiser.   See Flyer:  Panera_12052019 \n  \nPanera \n447 N. Milwaukee Ave. \nVernon Hills\, IL 60061
URL:http://hawthornpto.org/event/pto-community-engagement-night-panera/
END:VEVENT
BEGIN:VEVENT
DTSTART;TZID=America/Chicago:20191202T183000
DTEND;TZID=America/Chicago:20191202T193000
DTSTAMP:20260424T221308
CREATED:20191111T141918Z
LAST-MODIFIED:20191111T141918Z
UID:2725-1575311400-1575315000@hawthornpto.org
SUMMARY:Be Seen and Heard© Elementary Parent Information Night
DESCRIPTION:Hawthorn District 73 & The Hawthorn PTO Present \nBe Seen and Heard© Elementary Parent Night \nIn response to Erin’s Law (House Bill 6193)\, which requires all public schools to implement a prevention-oriented child sexual abuse program\, Hawthorn District 73 is hosting the Be Seen and Heard© assembly program for all elementary students during the second week in December. \nParents from all Hawthorn District 73 elementary schools are invited to attend a special informational meeting at Aspen Elementary School on Monday\, December 2nd to learn more about the concepts presented in the Be Seen and Heard© program prior to student assembly dates.  \nFor more information\, see the attached Program Flyer/English or  Program Flyer/Spanish \n \nThe program will be held at : \nAspen Elementary School \n500 Aspen Drive\, Vernon Hills \n\nChildcare is available.\nSpanish translation is available via headsets. \n\n For more information\, please visit www.VictorPacini.com. \n 
URL:http://hawthornpto.org/event/be-seen-and-heard-elementary-parent-information-night/
LOCATION:Aspen Elementary School\, 500 Aspen Dr\, Vernon Hills\, IL\, 60061\, United States
END:VEVENT
BEGIN:VEVENT
DTSTART;VALUE=DATE:20191126
DTEND;VALUE=DATE:20191127
DTSTAMP:20260424T221308
CREATED:20190814T185252Z
LAST-MODIFIED:20190814T185252Z
UID:2386-1574726400-1574812799@hawthornpto.org
SUMMARY:Fall Book Fair - All School Buildings
DESCRIPTION:PTO Fall Book Fair \nAll school buildings participate \nTimes vary by school location. Confirm specific times with your school \n 
URL:http://hawthornpto.org/event/fall-book-fair-all-school-buildings-2/
END:VEVENT
BEGIN:VEVENT
DTSTART;TZID=America/Chicago:20191125T160000
DTEND;TZID=America/Chicago:20191125T200000
DTSTAMP:20260424T221308
CREATED:20190822T010504Z
LAST-MODIFIED:20190822T010644Z
UID:2429-1574697600-1574712000@hawthornpto.org
SUMMARY:Community Engagement Night at McAlister's Deli
DESCRIPTION:Take a night off from cooking and have dinner at McAlister’s Deli between 4pm and 8pm and 20% of your purchase will be donated back to the Hawthorn 73 PTO. Make sure to bring flyer or show flyer on your phone or mention fundraiser to cashier before completing your purchase. \nMcAlister’s Deli \n99 East Townline Road \nVernon Hills\, IL 60061
URL:http://hawthornpto.org/event/community-engagement-night-at-mcalisters-deli/
END:VEVENT
BEGIN:VEVENT
DTSTART;VALUE=DATE:20191125
DTEND;VALUE=DATE:20191126
DTSTAMP:20260424T221308
CREATED:20190814T185204Z
LAST-MODIFIED:20190814T185204Z
UID:2383-1574640000-1574726399@hawthornpto.org
SUMMARY:Fall Book Fair - All School Buildings
DESCRIPTION:PTO Fall Book Fair \nAll school buildings participate \nTimes vary by school location. Confirm specific times with your school \n 
URL:http://hawthornpto.org/event/fall-book-fair-all-school-buildings/
END:VEVENT
BEGIN:VEVENT
DTSTART;TZID=America/Chicago:20191106T190000
DTEND;TZID=America/Chicago:20191106T200000
DTSTAMP:20260424T221308
CREATED:20190814T182659Z
LAST-MODIFIED:20190814T182659Z
UID:2352-1573066800-1573070400@hawthornpto.org
SUMMARY:PTO Monthly Meeting - 7pm  open to the community
DESCRIPTION:PTO Monthly Meeting \n7pm – 8pm \nHawthorn 73 District Office \n841 W. End Court \nVernon Hills
URL:http://hawthornpto.org/event/pto-monthly-meeting-7pm-open-to-the-community/
END:VEVENT
BEGIN:VEVENT
DTSTART;TZID=America/Chicago:20191026T090000
DTEND;TZID=America/Chicago:20191026T110000
DTSTAMP:20260424T221308
CREATED:20190830T184433Z
LAST-MODIFIED:20190830T184433Z
UID:2461-1572080400-1572087600@hawthornpto.org
SUMMARY:4th Annual Hawthorn Hustle
DESCRIPTION:Join the Hawthorn PTO and Community for the 4th Annual Hawthorn Hustle 5K Run or 1 Mile Walk/Stroll. \nSaturday\, October 26th\, 2019 – 9:00 am at Century Park (Start/Finish at the Sled Hill) \nInclement Weather Date:  November 9th
URL:http://hawthornpto.org/event/4th-annual-hawthorn-hustle/
END:VEVENT
BEGIN:VEVENT
DTSTART;TZID=America/Chicago:20191026T083000
DTEND;TZID=America/Chicago:20191026T110000
DTSTAMP:20260424T221308
CREATED:20190814T184804Z
LAST-MODIFIED:20190814T184804Z
UID:2380-1572078600-1572087600@hawthornpto.org
SUMMARY:4th Annual Hawthorn Hustle 5K/Fun Run - Century Park Sled Hill
DESCRIPTION:4th Annual Hawthorn Hustle 5K/Fun Run \nYou won’t want to miss our 4th annual Hawthorn Hustle 5K/Fun Run. Check in is at 8:30am and the race starts at 9am. Support the PTO while you visit with family\, friends\, and neighbors\, listen to music\, check out the great raffle prizes\, or just have a snack! \nCentury Park Sled Hill \n1001 Lakeview Parkway \nLocated on the north end of Century Park at Indianwood Drive
URL:http://hawthornpto.org/event/4th-annual-hawthorn-hustle-5k-fun-run-century-park-sled-hill/
END:VEVENT
BEGIN:VEVENT
DTSTART;TZID=America/Chicago:20191025T150000
DTEND;TZID=America/Chicago:20191025T190000
DTSTAMP:20260424T221308
CREATED:20190814T184406Z
LAST-MODIFIED:20190814T184406Z
UID:2377-1572015600-1572030000@hawthornpto.org
SUMMARY:Hawthorn Hustle 5K Check In
DESCRIPTION:4th Annual Hawthorn Hustle 5K/Fun Run Check In \nStop by Middle School South between 3pm and 7pm to pick up your race t-shirt and bib. You can also buy raffle tickets or register for the race.
URL:http://hawthornpto.org/event/hawthorn-hustle-5k-check-in/
END:VEVENT
BEGIN:VEVENT
DTSTART;TZID=America/Chicago:20191018T170000
DTEND;TZID=America/Chicago:20191018T210000
DTSTAMP:20260424T221308
CREATED:20190912T094733Z
LAST-MODIFIED:20191001T183408Z
UID:2495-1571418000-1571432400@hawthornpto.org
SUMMARY:Community Engagement Night - City BBQ
DESCRIPTION:Take a night off from cooking and have dinner at City BBQ from 5pm – 9pm in Mellody Farms and 25% of your purchase will be donated back to the Hawthorn 73 PTO. Use this link for the flyer to bring to the restaurant or show on your phone. \nCity BBQ \n887 N. Milwaukee Ave. \nVernon Hills\, IL 60061
URL:http://hawthornpto.org/event/community-engagement-night-city-bbq/
END:VEVENT
BEGIN:VEVENT
DTSTART;TZID=America/Chicago:20191002T190000
DTEND;TZID=America/Chicago:20191002T200000
DTSTAMP:20260424T221308
CREATED:20190814T182825Z
LAST-MODIFIED:20190814T182825Z
UID:2355-1570042800-1570046400@hawthornpto.org
SUMMARY:PTO Monthly Meeting - 7pm  open to the community
DESCRIPTION:PTO Monthly Meeting \n7pm – 8pm \nHawthorn 73 District Office \n841 W. End Court \nVernon Hills
URL:http://hawthornpto.org/event/pto-monthly-meeting-7pm-open-to-the-community-2/
END:VEVENT
BEGIN:VEVENT
DTSTART;TZID=America/Chicago:20190919T170000
DTEND;TZID=America/Chicago:20190919T200000
DTSTAMP:20260424T221308
CREATED:20190822T005947Z
LAST-MODIFIED:20190901T145938Z
UID:2423-1568912400-1568923200@hawthornpto.org
SUMMARY:PTO Community Engagement Night at Portillo's
DESCRIPTION:Take a night off from cooking and have dinner at Portillo’s between 5pm and 8pm and 20% of your purchase will be donated back to the Hawthorn 73 PTO. Make sure to bring flyer or show flyer on your phone or mention fundraiser to cashier before completing your purchase. NOTE:  Online orders are NOT part of the fundraiser.  See attached flyer: Hawthorn District 73 PTO 9.19.19 \nPortillo’s \n221 E Townline Rd \nVernon Hills\, IL 60061
URL:http://hawthornpto.org/event/pto-community-engagement-night-at-portillos/
END:VEVENT
BEGIN:VEVENT
DTSTART;TZID=America/Chicago:20190910T190000
DTEND;TZID=America/Chicago:20190910T200000
DTSTAMP:20260424T221308
CREATED:20190814T182119Z
LAST-MODIFIED:20190814T182442Z
UID:2346-1568142000-1568145600@hawthornpto.org
SUMMARY:PTO Monthly Meeting 7pm - open to the community
DESCRIPTION:PTO Monthly Meeting – open to the community \nHawthorn District 73 Office \n841 W. End Court \nVernon Hills \n 
URL:http://hawthornpto.org/event/pto-monthly-meeting/
LOCATION:Hawthorn District Office\, 841 West End Court\, Vernon Hills\, IL\, 60061\, United States
END:VEVENT
END:VCALENDAR