BEGIN:VCALENDAR
VERSION:2.0
PRODID:-//D73 Hawthorn PTO - ECPv6.15.3//NONSGML v1.0//EN
CALSCALE:GREGORIAN
METHOD:PUBLISH
X-ORIGINAL-URL:http://hawthornpto.org
X-WR-CALDESC:Events for D73 Hawthorn PTO
REFRESH-INTERVAL;VALUE=DURATION:PT1H
X-Robots-Tag:noindex
X-PUBLISHED-TTL:PT1H
BEGIN:VTIMEZONE
TZID:America/Chicago
BEGIN:DAYLIGHT
TZOFFSETFROM:-0600
TZOFFSETTO:-0500
TZNAME:CDT
DTSTART:20210314T080000
END:DAYLIGHT
BEGIN:STANDARD
TZOFFSETFROM:-0500
TZOFFSETTO:-0600
TZNAME:CST
DTSTART:20211107T070000
END:STANDARD
BEGIN:DAYLIGHT
TZOFFSETFROM:-0600
TZOFFSETTO:-0500
TZNAME:CDT
DTSTART:20220313T080000
END:DAYLIGHT
BEGIN:STANDARD
TZOFFSETFROM:-0500
TZOFFSETTO:-0600
TZNAME:CST
DTSTART:20221106T070000
END:STANDARD
BEGIN:DAYLIGHT
TZOFFSETFROM:-0600
TZOFFSETTO:-0500
TZNAME:CDT
DTSTART:20230312T080000
END:DAYLIGHT
BEGIN:STANDARD
TZOFFSETFROM:-0500
TZOFFSETTO:-0600
TZNAME:CST
DTSTART:20231105T070000
END:STANDARD
END:VTIMEZONE
BEGIN:VEVENT
DTSTART;TZID=America/Chicago:20230410T080000
DTEND;TZID=America/Chicago:20230424T170000
DTSTAMP:20260424T122033
CREATED:20230420T103517Z
LAST-MODIFIED:20230420T104442Z
UID:4266-1681113600-1682355600@hawthornpto.org
SUMMARY:Flower Gram Sale On Now!!
DESCRIPTION:Back by popular demand\, Flower Grams! Such a great way to show the love to your teachers\, staff members\, and/or administrators. Flower Grams are on sale now through April 24th via the PTO Store for only $3. Each Flower Gram includes a flower along with your personal message to your Hawthorn team member. The Flower Grams will be distributed by your schools’ PTO VP during Staff Appreciation Week May 1st – May 5th
URL:http://hawthornpto.org/event/flower-grams-are-back/
END:VEVENT
BEGIN:VEVENT
DTSTART;TZID=America/Chicago:20230326T141000
DTEND;TZID=America/Chicago:20230326T160000
DTSTAMP:20260424T122033
CREATED:20230315T184910Z
LAST-MODIFIED:20230315T184910Z
UID:4191-1679839800-1679846400@hawthornpto.org
SUMMARY:CAP Community Skate
DESCRIPTION:Glacier Ice Arena\n670 N. Lakeview Pkwy.\nVernon Hills \nOnly $5 per person! (CASH ONLY)\n$20 max per family\nIncludes skate rental \nProceeds from the Family Skate will be donated to the Community Alliance Project (CAP)\,\nwhich helps fund community-based youth programs in Vernon Hills.
URL:http://hawthornpto.org/event/cap-community-skate/
END:VEVENT
BEGIN:VEVENT
DTSTART;TZID=America/Chicago:20230313T190000
DTEND;TZID=America/Chicago:20230313T200000
DTSTAMP:20260424T122033
CREATED:20230214T012816Z
LAST-MODIFIED:20230214T012816Z
UID:4120-1678734000-1678737600@hawthornpto.org
SUMMARY:Cybersecurity Discussion
DESCRIPTION:Lake County Sheriff Office Cybersecurity discussion for parents \nMiddle North \n7PM \nDetails to follow
URL:http://hawthornpto.org/event/cybersecurity-discussion/
END:VEVENT
BEGIN:VEVENT
DTSTART;TZID=America/Chicago:20230313T103000
DTEND;TZID=America/Chicago:20230313T210000
DTSTAMP:20260424T122033
CREATED:20230308T133857Z
LAST-MODIFIED:20230308T133857Z
UID:4166-1678703400-1678741200@hawthornpto.org
SUMMARY:Community Engagement with Panda Express in Vernon Hills
DESCRIPTION:On March 13th\, visit Panda Express in Vernon Hills from 10:30am – 9:00pm and  20% of your purchase will be donated back to the PTO!
URL:http://hawthornpto.org/event/community-engagement-with-panda-express-in-vernon-hills/
END:VEVENT
BEGIN:VEVENT
DTSTART;TZID=America/Chicago:20230308T080000
DTEND;TZID=America/Chicago:20230324T170000
DTSTAMP:20260424T122033
CREATED:20230308T134147Z
LAST-MODIFIED:20230322T125934Z
UID:4169-1678262400-1679677200@hawthornpto.org
SUMMARY:Hawthorn 100th Anniversary Spirit Wear Sale!!!
DESCRIPTION:Commemorative Spirit Wear sale going on now through March 22nd ONLY. Help Hawthorn 73 celebrate 100 years of learning on April 12th! Visit the PTO Store to place your order for limited time commemorative items. There are many options to choose from for parents\, students\, and staff! 100th anniversary items will be delivered to your school in April!!
URL:http://hawthornpto.org/event/hawthorn-100th-anniversary-spirit-wear-sale/
END:VEVENT
BEGIN:VEVENT
DTSTART;TZID=America/Chicago:20230304T130000
DTEND;TZID=America/Chicago:20230304T150000
DTSTAMP:20260424T122033
CREATED:20230202T170140Z
LAST-MODIFIED:20230202T170140Z
UID:4108-1677934800-1677942000@hawthornpto.org
SUMMARY:Girls Afternoon Tea
DESCRIPTION:All 4th grade girls and their caretakers are invited to attend the Girls Afternoon Tea on at the Vernon Hills Park District Sullivan Center. Learn new ways to talk to each other and share information about growing up\, and the changes that come with puberty. Electronic invitations were sent to to the home email address on file for all 4th grade girls the week of 1/23/2023. This event is sponsored by the PTO and is free of charge.
URL:http://hawthornpto.org/event/girls-afternoon-tea-2/
END:VEVENT
BEGIN:VEVENT
DTSTART;VALUE=DATE:20230224
DTEND;VALUE=DATE:20230304
DTSTAMP:20260424T122033
CREATED:20230214T013458Z
LAST-MODIFIED:20230214T014141Z
UID:4134-1677196800-1677887999@hawthornpto.org
SUMMARY:Spring Book Fairs begin
DESCRIPTION:Days vary by school \nDetails to follow
URL:http://hawthornpto.org/event/spring-book-fairs-begin/
END:VEVENT
BEGIN:VEVENT
DTSTART;TZID=America/Chicago:20230223T100000
DTEND;TZID=America/Chicago:20230223T210000
DTSTAMP:20260424T122033
CREATED:20230214T012937Z
LAST-MODIFIED:20230214T012937Z
UID:4123-1677146400-1677186000@hawthornpto.org
SUMMARY:Community Engagement - Jersey Mike's
DESCRIPTION:Please join us at our next community engagement night at their 1640 N. Milwaukee location. Order between 10AM and 9PM and 25% of your purchase will be donated back to the PTO! See the attached flyer for more details!
URL:http://hawthornpto.org/event/community-engagement-jersey-mikes/
END:VEVENT
BEGIN:VEVENT
DTSTART;TZID=America/Chicago:20230119T160000
DTEND;TZID=America/Chicago:20230119T200000
DTSTAMP:20260424T122033
CREATED:20230111T031535Z
LAST-MODIFIED:20230111T032239Z
UID:4052-1674144000-1674158400@hawthornpto.org
SUMMARY:Community Engagement - Jimano's Pizzeria
DESCRIPTION:Thursday\, January 19th – Jimano’s Pizzeria (277 Evergreen Dr) is donating back 20% of Dine-In orders \nWe ask that you RSVP here (even if you’re not completely sure) so Jimano’s Pizzeria knows roughly how many orders to expect
URL:http://hawthornpto.org/event/community-engagement-jimanos-pizza/
END:VEVENT
BEGIN:VEVENT
DTSTART;TZID=America/Chicago:20230113T190000
DTEND;TZID=America/Chicago:20230113T203000
DTSTAMP:20260424T122033
CREATED:20230105T000745Z
LAST-MODIFIED:20230105T000745Z
UID:4032-1673636400-1673641800@hawthornpto.org
SUMMARY:Kid's Night Out - Ninja Style
DESCRIPTION:REGISTRATION:  https://bit.ly/D73KNOJan23
URL:http://hawthornpto.org/event/kids-night-out-ninja-style/
END:VEVENT
BEGIN:VEVENT
DTSTART;TZID=America/Chicago:20221118T160000
DTEND;TZID=America/Chicago:20221118T190000
DTSTAMP:20260424T122033
CREATED:20221102T024050Z
LAST-MODIFIED:20221102T024050Z
UID:3981-1668787200-1668798000@hawthornpto.org
SUMMARY:Community Engagement - Snickelfritz Toys
DESCRIPTION:Join Sam the Eagle and get some holiday shopping done while you support our schools. Snickelfritz Toys is generously donating 10% of purchases to PTO.  There will also be an opportunity for people shop for local kids in need.
URL:http://hawthornpto.org/event/community-engagement-snickelfritz-toys/
LOCATION:Snickelfritz Toys\, 700 N Milwaukee Ave Ste 124\, Vernon Hills\, IL\, 600601\, United States
END:VEVENT
BEGIN:VEVENT
DTSTART;TZID=America/Chicago:20221111T180000
DTEND;TZID=America/Chicago:20221111T200000
DTSTAMP:20260424T122033
CREATED:20221026T000725Z
LAST-MODIFIED:20221108T001119Z
UID:3955-1668189600-1668196800@hawthornpto.org
SUMMARY:Kids Night Out - A Drop Off Event
DESCRIPTION:Where: Canlan Libertyville Sports complex\nWhat: We will have 2 turf fields and 2 basketball courts available\nHow: Registration link:  https://bit.ly/3TEuR4Y\nCost: $20 \nDrop the kids at Canlan Libertyville Sports Center for a Kids Night Out. Registration in advance is required and it will close at 2PM on the day of the event. The event runs from 6-8PM. Students will be divided up into different groups based on age/grade and there will be supervision for the kids while participating. \n 
URL:http://hawthornpto.org/event/parent-kids-night-out/
END:VEVENT
BEGIN:VEVENT
DTSTART;TZID=America/Chicago:20221111T110000
DTEND;TZID=America/Chicago:20221111T220000
DTSTAMP:20260424T122033
CREATED:20221108T003048Z
LAST-MODIFIED:20221108T003048Z
UID:4013-1668164400-1668204000@hawthornpto.org
SUMMARY:Community Event - Hitz Pizza
DESCRIPTION:Restaurant Night at Hitz Pizza and Sports Bar in Mundelein. 15% of dining total comes back to the Hawthorn PTO! \nHitz is located at 700 Butterfield Rd\, Mundelein\, IL 60060
URL:http://hawthornpto.org/event/community-event-hitz-pizza/
END:VEVENT
BEGIN:VEVENT
DTSTART;TZID=America/Chicago:20221106T090000
DTEND;TZID=America/Chicago:20221106T120000
DTSTAMP:20260424T122033
CREATED:20221026T000545Z
LAST-MODIFIED:20221026T000545Z
UID:3952-1667725200-1667736000@hawthornpto.org
SUMMARY:Hawthorn Hustle
DESCRIPTION:Check In: 9:00-10:30 am (if registration packet not picked up on November 3rd) \nRun Start: 11 am \nWalk Start: 11:15
URL:http://hawthornpto.org/event/hawthorn-hustle-2/
END:VEVENT
BEGIN:VEVENT
DTSTART;TZID=America/Chicago:20221103T143000
DTEND;TZID=America/Chicago:20221103T180000
DTSTAMP:20260424T122033
CREATED:20221026T000412Z
LAST-MODIFIED:20221026T000412Z
UID:3949-1667485800-1667498400@hawthornpto.org
SUMMARY:Hawthorn Hustle Packet pick-up
DESCRIPTION:Bib pick-up at Middle School South
URL:http://hawthornpto.org/event/hawthorn-hustle-packet-pick-up/
END:VEVENT
BEGIN:VEVENT
DTSTART;TZID=America/Chicago:20220430T100000
DTEND;TZID=America/Chicago:20220430T113000
DTSTAMP:20260424T122033
CREATED:20220325T154728Z
LAST-MODIFIED:20220325T154728Z
UID:3666-1651312800-1651318200@hawthornpto.org
SUMMARY:Variety Show
DESCRIPTION:Have a magic trick up your sleeve? Perfected your dance routine? Learn a new song on the Piano?Take the Stage & Share Your Talent with District 73 at the Annual 2022 Variety Show. \nEVENT ADDRESS: Hawthorn Middle South School AuditoriumMANDATORY REHEARSAL: FRI\, APRIL 29TH 5:30PM
URL:http://hawthornpto.org/event/variety-show-2/
END:VEVENT
BEGIN:VEVENT
DTSTART;TZID=America/Chicago:20220429T173000
DTEND;TZID=America/Chicago:20220429T190000
DTSTAMP:20260424T122033
CREATED:20220325T154855Z
LAST-MODIFIED:20220325T154855Z
UID:3669-1651253400-1651258800@hawthornpto.org
SUMMARY:Variety Show Rehearsal
DESCRIPTION:MANDATORY REHEARSAL \nHawthorn Middle South School Auditorium
URL:http://hawthornpto.org/event/variety-show-rehearsal/
END:VEVENT
BEGIN:VEVENT
DTSTART;TZID=America/Chicago:20220424T130000
DTEND;TZID=America/Chicago:20220424T150000
DTSTAMP:20260424T122033
CREATED:20220415T205649Z
LAST-MODIFIED:20220415T205649Z
UID:3683-1650805200-1650812400@hawthornpto.org
SUMMARY:Family Event at KMAA
DESCRIPTION:KMAA is offering a free demo and taekwondo lesson for District 73 kiddos to check out their L.E.A.D program. \n*Free demonstration from the KMAA DEMO TEAM \n*Learn some Taekwondo moves \n*Play Zemita (an interactive electronic sparring game) \nPlease register in advance \nKeumgang Martial Arts \n690 S. Lake St. \nMundelein
URL:http://hawthornpto.org/event/family-event-at-kmaa/
END:VEVENT
BEGIN:VEVENT
DTSTART;TZID=America/Chicago:20220421T160000
DTEND;TZID=America/Chicago:20220421T210000
DTSTAMP:20260424T122033
CREATED:20220323T153525Z
LAST-MODIFIED:20220323T153525Z
UID:3641-1650556800-1650574800@hawthornpto.org
SUMMARY:Community Engagement Night - Teriyaki Madness
DESCRIPTION:Dine at Teriyaki Madness and Hawthorn PTO will get 20% of all order totals. They are located at 875 N. Milwaukee Ave in the Mellody Farms shopping center. \nIn-Shop or Call-In Orders: Be sure to tell the Cashier when you order you are supporting this fundraiser! \nOnline or App Orders: At the Payment Screen\, Click on “Coupon Code” and enter “Fundraiser” in the box \nteriyakimadness.com
URL:http://hawthornpto.org/event/community-engagement-night-teriyaki-madness/
END:VEVENT
BEGIN:VEVENT
DTSTART;TZID=America/Chicago:20220409T130000
DTEND;TZID=America/Chicago:20220409T140000
DTSTAMP:20260424T122033
CREATED:20220323T161852Z
LAST-MODIFIED:20220323T161852Z
UID:3651-1649509200-1649512800@hawthornpto.org
SUMMARY:Girls Afternoon Tea
DESCRIPTION:All 4th and 5th grade girls and their caregivers are invited to attend the Girls Afternoon Tea on Saturday\, April 9th from 1:00-2:00 pm via Zoom. Electronic invitations were sent home to all 4th and 5th grade girls in March.  This event is sponsored by the PTO and is free of charge.  If you have any questions or did not receive your invite please send a message to Girls Afternoon Tea.
URL:http://hawthornpto.org/event/girls-afternoon-tea/
END:VEVENT
BEGIN:VEVENT
DTSTART;TZID=America/Chicago:20220327T152000
DTEND;TZID=America/Chicago:20220327T170000
DTSTAMP:20260424T122033
CREATED:20220323T152742Z
LAST-MODIFIED:20220323T152752Z
UID:3634-1648394400-1648400400@hawthornpto.org
SUMMARY:Family Skate
DESCRIPTION:Glacier Ice Arena \n670 N. Lakeview Pkwy. Vernon Hills \nOnly $5 per person! (CASH ONLY) $20 max per family – includes skate rental! \nBring the whole family out for a cool afternoon of indoor skating! Concessions will be available for purchase.
URL:http://hawthornpto.org/event/family-skate/
END:VEVENT
BEGIN:VEVENT
DTSTART;TZID=America/Chicago:20220324T160000
DTEND;TZID=America/Chicago:20220324T200000
DTSTAMP:20260424T122033
CREATED:20220323T185751Z
LAST-MODIFIED:20220323T185751Z
UID:3656-1648137600-1648152000@hawthornpto.org
SUMMARY:Community Engagement - Clucker's Charcoal Chicken
DESCRIPTION:Visit Clucker’s Charcoal Chicken at 536 N. Milwaukee Ave (in Libertyville) between 4-8PM and Hawthorn PTO gets 20% of all order amounts. https://cluckerscharcoalchicken.com/locations/libertyville
URL:http://hawthornpto.org/event/community-engagement-cluckers-charcoal-chicken/
END:VEVENT
BEGIN:VEVENT
DTSTART;TZID=America/Chicago:20220127T103000
DTEND;TZID=America/Chicago:20220127T210000
DTSTAMP:20260424T122033
CREATED:20220111T220506Z
LAST-MODIFIED:20220111T220743Z
UID:3605-1643279400-1643317200@hawthornpto.org
SUMMARY:Community Engagement Event - Panda Express
DESCRIPTION:Visit Panda Express at 252 E Townline Rd (in front of Binny’s) between 10:30am and 9pm and Hawthorn PTO will receive 20% of event sales. Present flyer on your phone or print out and present in store\, or order online or via the app and enter 332833 in the fundraiser code box. \n  \nLink to flyer
URL:http://hawthornpto.org/event/community-engagement-event-panda-express/
END:VEVENT
BEGIN:VEVENT
DTSTART;TZID=America/Chicago:20211222T170000
DTEND;TZID=America/Chicago:20211222T210000
DTSTAMP:20260424T122033
CREATED:20211129T184959Z
LAST-MODIFIED:20211129T213429Z
UID:3569-1640192400-1640206800@hawthornpto.org
SUMMARY:Community Engagement Night - Chipotle
DESCRIPTION:Eat between 5-9PM at the Mundelein Chipotle (520 Townline Rd near Rte. 60/45)  and the Hawthorn PTO will get 33% of the sales. Order online and pickup Chipotle for your fundraiser by using the Promo Code 66LJ8AQ on the Chipotle app or website.
URL:http://hawthornpto.org/event/community-engagement-event-chipotle/
END:VEVENT
BEGIN:VEVENT
DTSTART;VALUE=DATE:20211129
DTEND;VALUE=DATE:20220103
DTSTAMP:20260424T122033
CREATED:20211129T185544Z
LAST-MODIFIED:20211129T185544Z
UID:3572-1638144000-1641167999@hawthornpto.org
SUMMARY:Community Engagement Event - Santa's Rock n Lights
DESCRIPTION:Drove through animated light show now through the New Year. Online advance purchase required. Use coupon code at checkout D73PTO  – you get $1 off AND Hawthorn PTO gets a $2 donation. \n 
URL:http://hawthornpto.org/event/community-engagement-event-santas-rock-n-lights/
END:VEVENT
BEGIN:VEVENT
DTSTART;VALUE=DATE:20211117
DTEND;VALUE=DATE:20211118
DTSTAMP:20260424T122033
CREATED:20210915T143513Z
LAST-MODIFIED:20210915T143513Z
UID:3426-1637107200-1637193599@hawthornpto.org
SUMMARY:Community Engagement Event
DESCRIPTION:City Barbeque (Vernon Hills) – eat at City BBQ and the Hawthorn PTO will get 20% of the sales. You must use fundraiser code “FundA” when ordering.
URL:http://hawthornpto.org/event/community-engagement-event/
END:VEVENT
BEGIN:VEVENT
DTSTART;TZID=America/Chicago:20211106T090000
DTEND;TZID=America/Chicago:20211106T120000
DTSTAMP:20260424T122033
CREATED:20210916T155710Z
LAST-MODIFIED:20210916T155710Z
UID:3435-1636189200-1636200000@hawthornpto.org
SUMMARY:Hawthorn Hustle
DESCRIPTION:Join the Hawthorn PTO and Community for the 6th Annual Hawthorn Hustle 5K Run or 1 Mile Walk/Stroll. \nCentury Park (Start/Finish at the Sled Hill) \nInclement Weather Date:  November 13th \nIf lightning is predicted in the area 24 hours before the race\, the race will be postponed to the November 13th date.  Runners and vendors will be notified. \nClick here for more info and to register.
URL:http://hawthornpto.org/event/hawthorn-hustle/
END:VEVENT
BEGIN:VEVENT
DTSTART;TZID=America/Chicago:20211012T160000
DTEND;TZID=America/Chicago:20211012T210000
DTSTAMP:20260424T122033
CREATED:20211012T212841Z
LAST-MODIFIED:20211012T212841Z
UID:3497-1634054400-1634072400@hawthornpto.org
SUMMARY:Community Engagement - Cafe Zupas
DESCRIPTION:Cafe Zupas\, located in Mellody Farm\, will give back 25% of the proceeds from orders placed between 4-9PM on 10/12.
URL:http://hawthornpto.org/event/community-engagement-cafe-zupas/
END:VEVENT
BEGIN:VEVENT
DTSTART;TZID=America/Chicago:20210918T180000
DTEND;TZID=America/Chicago:20210918T220000
DTSTAMP:20260424T122033
CREATED:20210910T202951Z
LAST-MODIFIED:20210910T202951Z
UID:3403-1631988000-1632002400@hawthornpto.org
SUMMARY:Community Engagement  - KMAA Parents Night Out
DESCRIPTION:District 73 Parents’ Night Out – Among Us Mission – 6-10PM. Keumgang Martial Arts Academy (KMAA) is hosting a Parents’ Night Out – Among Us Mission for District 73 kids. There will be a real life Among Us game\, prizes\, crafts\, pizza and more. All profits will go to the District 73 PTO. Save time and fill out the contact form and waiver in advance.  $25 per child (includes pizza and drinks). You can sign up using this link.
URL:http://hawthornpto.org/event/community-engagement-kmaa-parents-night-out/
END:VEVENT
BEGIN:VEVENT
DTSTART;TZID=America/Chicago:20210918T110000
DTEND;TZID=America/Chicago:20210918T220000
DTSTAMP:20260424T122033
CREATED:20210910T202603Z
LAST-MODIFIED:20210910T210425Z
UID:3400-1631962800-1632002400@hawthornpto.org
SUMMARY:Community Engagement Event - Tina G's Cafe
DESCRIPTION:Enjoy lunch or dinner at Tina G’s\, a family owned restaurant in Mundelein\, and the Hawthorn PTO will get back 10% of the proceeds. Tina G’s is located at 10 E Park St\, Mundelein 60060.
URL:http://hawthornpto.org/event/community-engagement-event-tina-gs-cafe/
END:VEVENT
END:VCALENDAR