BEGIN:VCALENDAR
VERSION:2.0
PRODID:-//D73 Hawthorn PTO - ECPv6.15.3//NONSGML v1.0//EN
CALSCALE:GREGORIAN
METHOD:PUBLISH
X-ORIGINAL-URL:http://hawthornpto.org
X-WR-CALDESC:Events for D73 Hawthorn PTO
REFRESH-INTERVAL;VALUE=DURATION:PT1H
X-Robots-Tag:noindex
X-PUBLISHED-TTL:PT1H
BEGIN:VTIMEZONE
TZID:America/Chicago
BEGIN:DAYLIGHT
TZOFFSETFROM:-0600
TZOFFSETTO:-0500
TZNAME:CDT
DTSTART:20180311T080000
END:DAYLIGHT
BEGIN:STANDARD
TZOFFSETFROM:-0500
TZOFFSETTO:-0600
TZNAME:CST
DTSTART:20181104T070000
END:STANDARD
END:VTIMEZONE
BEGIN:VEVENT
DTSTART;TZID=America/Chicago:20180318T110000
DTEND;TZID=America/Chicago:20180318T160000
DTSTAMP:20260425T103302
CREATED:20180308T042121Z
LAST-MODIFIED:20180308T043610Z
UID:1626-1521370800-1521388800@hawthornpto.org
SUMMARY:Hawthorn Variety Show
DESCRIPTION:Mark your calendars for a fun day at the 2018 Variety Show! Registration is closed and the lineups have been set! Performances are at 11AM and 2PM on Sunday\, March 18th\, 2018 at Middle School South. Admission is free! \nParents who have children performing in the show should have received information regarding which rehearsal and show time your child is in. Visit PTO Variety Show for more information.
URL:http://hawthornpto.org/event/hawthorn-variety-show/
LOCATION:Middle South School\, 600 Aspen Dr\, Vernon Hills\, IL\, 60061\, United States
END:VEVENT
BEGIN:VEVENT
DTSTART;VALUE=DATE:20180315
DTEND;VALUE=DATE:20180316
DTSTAMP:20260425T103302
CREATED:20180308T041702Z
LAST-MODIFIED:20180308T043533Z
UID:1622-1521072000-1521158399@hawthornpto.org
SUMMARY:Spring Spirit Wear Sale Ends
DESCRIPTION:Show your school spirit and support the PTO! The Online Spirit Wear sale is open! Order here through March 15th!
URL:http://hawthornpto.org/event/spring-spirit-wear-sale-ends/
LOCATION:Spiritwear Online Store
END:VEVENT
BEGIN:VEVENT
DTSTART;TZID=America/Chicago:20180312T173000
DTEND;TZID=America/Chicago:20180312T200000
DTSTAMP:20260425T103302
CREATED:20180308T041335Z
LAST-MODIFIED:20180308T041335Z
UID:1618-1520875800-1520884800@hawthornpto.org
SUMMARY:Evereve Shopping Night
DESCRIPTION:The Hawthorn PTO is partnering again with Evereve for a fun night of shopping! \n15% of sales from this event will be donated back to the PTO \nCan’t make it on March 12th? No problem! Pre-shop at your convenience and have your order processed on March 12th.
URL:http://hawthornpto.org/event/evereve-shopping-night/
LOCATION:Evereve Market Square\, 248 Market Square\, Lake Forest\, IL\, 60045\, United States
END:VEVENT
BEGIN:VEVENT
DTSTART;TZID=America/Chicago:20180310T130000
DTEND;TZID=America/Chicago:20180310T150000
DTSTAMP:20260425T103302
CREATED:20180308T040948Z
LAST-MODIFIED:20180308T043432Z
UID:1614-1520686800-1520694000@hawthornpto.org
SUMMARY:Mother Daughter Tea
DESCRIPTION:The Mother-Daughter Tea for 4th grade girls and their mother/mother figure is finally here!
URL:http://hawthornpto.org/event/mother-daughter-tea/
LOCATION:Sullivan Community Center\, 635 N Aspen Dr\, Vernon Hills\, IL\, 60061\, United States
END:VEVENT
END:VCALENDAR